BEGIN:VCALENDAR
VERSION:2.0
PRODID:-//jEvents 2.0 for Joomla//EN
CALSCALE:GREGORIAN
METHOD:PUBLISH
BEGIN:VTIMEZONE
TZID:Europe/Berlin
END:VTIMEZONE
BEGIN:VEVENT
UID:a5263058-7b25-4c6c-9a64-f998671759b5
CATEGORIES:regelmäßige Termine
CLASS:PUBLIC
CREATED:20251122T142951
SUMMARY:Minis & Co.
LOCATION:Onckenzimmer
DESCRIPTION:für Kinder bis zu 3 Jahren und deren Begleiter
DTSTAMP:20260420T155947
DTSTART;TZID=Europe/Berlin:20260107T153000
DTEND;TZID=Europe/Berlin:20260107T173000
SEQUENCE:2
TRANSP:OPAQUE
END:VEVENT
END:VCALENDAR