BEGIN:VCALENDAR
VERSION:2.0
PRODID:-//jEvents 2.0 for Joomla//EN
CALSCALE:GREGORIAN
METHOD:PUBLISH
BEGIN:VTIMEZONE
TZID:Europe/Berlin
END:VTIMEZONE
BEGIN:VEVENT
UID:68a2a804-e1a4-4cae-8272-178d23c83b81
CATEGORIES:regelmäßige Termine
CLASS:PUBLIC
CREATED:20251122T142951
SUMMARY:Blaues Kreuz Gesprächsgruppe
LOCATION:Jugendraum
DESCRIPTION:
DTSTAMP:20260420T155801
DTSTART;TZID=Europe/Berlin:20260115T173000
DTEND;TZID=Europe/Berlin:20260115T183000
SEQUENCE:2
TRANSP:OPAQUE
END:VEVENT
END:VCALENDAR