BEGIN:VCALENDAR
VERSION:2.0
PRODID:-//jEvents 2.0 for Joomla//EN
CALSCALE:GREGORIAN
METHOD:PUBLISH
BEGIN:VTIMEZONE
TZID:Europe/Berlin
END:VTIMEZONE
BEGIN:VEVENT
UID:809c29b1-0f1c-4ac8-910b-5b55755f8d73
CATEGORIES:regelmäßige Termine
CLASS:PUBLIC
CREATED:20251122T142951
SUMMARY:Männerstammtisch
LOCATION:Gaststätte Schlegelkrug\, Franz-Bielefeld-Straße 27\, GE
DESCRIPTION:
DTSTAMP:20260420T173138
DTSTART;TZID=Europe/Berlin:20260102T193000
DTEND;TZID=Europe/Berlin:20260102T213000
SEQUENCE:2
TRANSP:OPAQUE
END:VEVENT
END:VCALENDAR