BEGIN:VCALENDAR
VERSION:2.0
PRODID:-//jEvents 2.0 for Joomla//EN
CALSCALE:GREGORIAN
METHOD:PUBLISH
BEGIN:VTIMEZONE
TZID:Europe/Berlin
END:VTIMEZONE
BEGIN:VEVENT
UID:d19a372e-8e94-4b9f-a343-a42d56b4a1d4
CATEGORIES:regelmäßige Termine
CLASS:PUBLIC
CREATED:20251122T142951
SUMMARY:Gottesdienst
LOCATION:Säulensaal
DESCRIPTION:
DTSTAMP:20260420T155337
DTSTART;TZID=Europe/Berlin:20260111T103000
DTEND;TZID=Europe/Berlin:20260111T113000
SEQUENCE:3
TRANSP:OPAQUE
END:VEVENT
END:VCALENDAR