BEGIN:VCALENDAR
VERSION:2.0
PRODID:-//jEvents 2.0 for Joomla//EN
CALSCALE:GREGORIAN
METHOD:PUBLISH
BEGIN:VTIMEZONE
TZID:Europe/Berlin
END:VTIMEZONE
BEGIN:VEVENT
UID:79008d3c-340d-4ce5-8f6d-fbbe788d9bf1
CATEGORIES:regelmäßige Termine
CLASS:PUBLIC
CREATED:20251122T142951
SUMMARY:Gemeindecafé
LOCATION:Säulensaal
DESCRIPTION:
DTSTAMP:20260420T170923
DTSTART;TZID=Europe/Berlin:20260111T113000
DTEND;TZID=Europe/Berlin:20260111T123000
SEQUENCE:3
TRANSP:OPAQUE
END:VEVENT
END:VCALENDAR