BEGIN:VCALENDAR
VERSION:2.0
PRODID:-//jEvents 2.0 for Joomla//EN
CALSCALE:GREGORIAN
METHOD:PUBLISH
BEGIN:VTIMEZONE
TZID:Europe/Berlin
END:VTIMEZONE
BEGIN:VEVENT
UID:1e129bae-caae-42e6-8e69-8ad8fcbda55c
CATEGORIES:regelmäßige Termine
CLASS:PUBLIC
CREATED:20251122T142951
SUMMARY:Lobpreisabend
LOCATION:Gottesdienstraum
DESCRIPTION:kein YoutubeStream
DTSTAMP:20260420T155636
DTSTART;TZID=Europe/Berlin:20260104T190000
DTEND;TZID=Europe/Berlin:20260104T200000
SEQUENCE:4
TRANSP:OPAQUE
END:VEVENT
END:VCALENDAR