BEGIN:VCALENDAR
VERSION:2.0
PRODID:-//jEvents 2.0 for Joomla//EN
CALSCALE:GREGORIAN
METHOD:PUBLISH
BEGIN:VTIMEZONE
TZID:Europe/Berlin
END:VTIMEZONE
BEGIN:VEVENT
UID:7ed2deba-bd98-4cb9-a1d5-a73bf3cde938
CATEGORIES:unregelmäßige Termine
CREATED:20251127T064510
SUMMARY:Gemeindeleitungssitzung
LOCATION:Parkettraum
DESCRIPTION:
DTSTAMP:20260420T154005
DTSTART;TZID=Europe/Berlin:20260127T193000
DTEND;TZID=Europe/Berlin:20260127T223000
SEQUENCE:2
TRANSP:OPAQUE
END:VEVENT
END:VCALENDAR