BEGIN:VCALENDAR
VERSION:2.0
PRODID:-//jEvents 2.0 for Joomla//EN
CALSCALE:GREGORIAN
METHOD:PUBLISH
BEGIN:VTIMEZONE
TZID:Europe/Berlin
END:VTIMEZONE
BEGIN:VEVENT
UID:f8df54bc-0509-4698-bc64-943ef7d2d712
CATEGORIES:regelmäßige Termine
CLASS:PUBLIC
CREATED:20251205T074513
SUMMARY:Fit & Fun
LOCATION:Turnhalle
DESCRIPTION:Sport und Gemeinschaft für jede Altersgruppe
DTSTAMP:20260420T170646
DTSTART;TZID=Europe/Berlin:20260113T180000
DTEND;TZID=Europe/Berlin:20260113T210000
SEQUENCE:2
TRANSP:OPAQUE
END:VEVENT
END:VCALENDAR