BEGIN:VCALENDAR
VERSION:2.0
PRODID:-//jEvents 2.0 for Joomla//EN
CALSCALE:GREGORIAN
METHOD:PUBLISH
BEGIN:VTIMEZONE
TZID:Europe/Berlin
END:VTIMEZONE
BEGIN:VEVENT
UID:d11155b9-9dff-4017-b94e-d53f39a6f6d6
CATEGORIES:regelmäßige Termine
CLASS:PUBLIC
CREATED:20251205T074513
SUMMARY:Fit & Fun
LOCATION:Turnhalle
DESCRIPTION:Sport und Gemeinschaft für jede Altersgruppe
DTSTAMP:20260420T155247
DTSTART;TZID=Europe/Berlin:20260120T180000
DTEND;TZID=Europe/Berlin:20260120T210000
SEQUENCE:2
TRANSP:OPAQUE
END:VEVENT
END:VCALENDAR