BEGIN:VCALENDAR
VERSION:2.0
PRODID:-//jEvents 2.0 for Joomla//EN
CALSCALE:GREGORIAN
METHOD:PUBLISH
BEGIN:VTIMEZONE
TZID:Europe/Berlin
END:VTIMEZONE
BEGIN:VEVENT
UID:8fe4ca6b-2484-40f9-b1ad-9440897baa85
CATEGORIES:regelmäßige Termine
CLASS:PUBLIC
CREATED:20251205T074513
SUMMARY:Minis & Co.
LOCATION:Onckenzimmer
DESCRIPTION:für Kinder bis zu 3 Jahren und deren Begleiter
DTSTAMP:20260420T171355
DTSTART;TZID=Europe/Berlin:20260121T153000
DTEND;TZID=Europe/Berlin:20260121T173000
SEQUENCE:2
TRANSP:OPAQUE
END:VEVENT
END:VCALENDAR