BEGIN:VCALENDAR
VERSION:2.0
PRODID:-//jEvents 2.0 for Joomla//EN
CALSCALE:GREGORIAN
METHOD:PUBLISH
BEGIN:VTIMEZONE
TZID:Europe/Berlin
END:VTIMEZONE
BEGIN:VEVENT
UID:ff55f8d8-0115-43c4-a070-ab81bcaa5107
CATEGORIES:regelmäßige Termine
CLASS:PUBLIC
CREATED:20251205T074513
SUMMARY:KiD - Kids im Dom
LOCATION:Erlöserkirche
DESCRIPTION:für Kinder im Alter von 6 bis 12 Jahren
DTSTAMP:20260420T155436
DTSTART;TZID=Europe/Berlin:20260109T170000
DTEND;TZID=Europe/Berlin:20260109T190000
SEQUENCE:2
TRANSP:OPAQUE
END:VEVENT
END:VCALENDAR