BEGIN:VCALENDAR
VERSION:2.0
PRODID:-//jEvents 2.0 for Joomla//EN
CALSCALE:GREGORIAN
METHOD:PUBLISH
BEGIN:VTIMEZONE
TZID:Europe/Berlin
END:VTIMEZONE
BEGIN:VEVENT
UID:b2bd9ded-1eb5-4788-ba8a-769fbabdb05f
CATEGORIES:regelmäßige Termine
CLASS:PUBLIC
CREATED:20251205T074513
SUMMARY:KiD - Kids im Dom
LOCATION:Erlöserkirche
DESCRIPTION:für Kinder im Alter von 6 bis 12 Jahren
DTSTAMP:20260420T173438
DTSTART;TZID=Europe/Berlin:20260116T170000
DTEND;TZID=Europe/Berlin:20260116T190000
SEQUENCE:2
TRANSP:OPAQUE
END:VEVENT
END:VCALENDAR