BEGIN:VCALENDAR
VERSION:2.0
PRODID:-//jEvents 2.0 for Joomla//EN
CALSCALE:GREGORIAN
METHOD:PUBLISH
BEGIN:VTIMEZONE
TZID:Europe/Berlin
END:VTIMEZONE
BEGIN:VEVENT
UID:dc59346a-d1ad-41e5-a6a7-723538808390
CATEGORIES:regelmäßige Termine
CLASS:PUBLIC
CREATED:20251205T074513
SUMMARY:KiD - Kids im Dom
LOCATION:Erlöserkirche
DESCRIPTION:für Kinder im Alter von 6 bis 12 Jahren
DTSTAMP:20260420T155405
DTSTART;TZID=Europe/Berlin:20260130T170000
DTEND;TZID=Europe/Berlin:20260130T190000
SEQUENCE:2
TRANSP:OPAQUE
END:VEVENT
END:VCALENDAR