BEGIN:VCALENDAR
VERSION:2.0
PRODID:-//jEvents 2.0 for Joomla//EN
CALSCALE:GREGORIAN
METHOD:PUBLISH
BEGIN:VTIMEZONE
TZID:Europe/Berlin
END:VTIMEZONE
BEGIN:VEVENT
UID:eddbddc4-f7f2-43f9-8f0c-31d15aaf0a7d
CATEGORIES:regelmäßige Termine
CLASS:PUBLIC
CREATED:20251205T074513
SUMMARY:Gottesdienst zum Abschluss der Allianz-Gebetswoche in der Gemeinde „Lebendiges Wort“
LOCATION:Luitpoldstraße 37
DESCRIPTION:
DTSTAMP:20260420T155733
DTSTART;TZID=Europe/Berlin:20260118T103000
DTEND;TZID=Europe/Berlin:20260118T113000
SEQUENCE:3
TRANSP:OPAQUE
END:VEVENT
END:VCALENDAR