BEGIN:VCALENDAR
VERSION:2.0
PRODID:-//jEvents 2.0 for Joomla//EN
CALSCALE:GREGORIAN
METHOD:PUBLISH
BEGIN:VTIMEZONE
TZID:Europe/Berlin
END:VTIMEZONE
BEGIN:VEVENT
UID:07f2f793-091d-47ac-a965-8b95a6026deb
CATEGORIES:regelmäßige Termine
CLASS:PUBLIC
CREATED:20251205T074513
SUMMARY:Gottesdienst
LOCATION:Säulensaal
DESCRIPTION:
DTSTAMP:20260420T170625
DTSTART;TZID=Europe/Berlin:20260125T103000
DTEND;TZID=Europe/Berlin:20260125T113000
SEQUENCE:3
TRANSP:OPAQUE
END:VEVENT
END:VCALENDAR