BEGIN:VCALENDAR
VERSION:2.0
PRODID:-//jEvents 2.0 for Joomla//EN
CALSCALE:GREGORIAN
METHOD:PUBLISH
BEGIN:VTIMEZONE
TZID:Europe/Berlin
END:VTIMEZONE
BEGIN:VEVENT
UID:13eed952-8cca-447f-8e8a-c86d26f7e654
CATEGORIES:regelmäßige Termine
CLASS:PUBLIC
CREATED:20251205T074513
SUMMARY:Kinderabenteuerland
LOCATION:Säulensaal
DESCRIPTION:für Kinder im Alter von 3 bis 12 Jahren
DTSTAMP:20260420T155614
DTSTART;TZID=Europe/Berlin:20260125T103000
DTEND;TZID=Europe/Berlin:20260125T113000
SEQUENCE:3
TRANSP:OPAQUE
END:VEVENT
END:VCALENDAR