BEGIN:VCALENDAR
VERSION:2.0
PRODID:-//jEvents 2.0 for Joomla//EN
CALSCALE:GREGORIAN
METHOD:PUBLISH
BEGIN:VTIMEZONE
TZID:Europe/Berlin
END:VTIMEZONE
BEGIN:VEVENT
UID:1629f128-1286-4f75-9b36-746e603db39c
CATEGORIES:regelmäßige Termine
CLASS:PUBLIC
CREATED:20251205T074513
SUMMARY:Gemeindecafé
LOCATION:Säulensaal
DESCRIPTION:
DTSTAMP:20260420T155807
DTSTART;TZID=Europe/Berlin:20260125T113000
DTEND;TZID=Europe/Berlin:20260125T123000
SEQUENCE:2
TRANSP:OPAQUE
END:VEVENT
END:VCALENDAR