BEGIN:VCALENDAR
VERSION:2.0
PRODID:-//jEvents 2.0 for Joomla//EN
CALSCALE:GREGORIAN
METHOD:PUBLISH
BEGIN:VTIMEZONE
TZID:Europe/Berlin
END:VTIMEZONE
BEGIN:VEVENT
UID:99f1fcb8-534b-42f7-b0c8-77ffe41e6336
CATEGORIES:regelmäßige Termine
CLASS:PUBLIC
CREATED:20251218T064514
SUMMARY:Gesprächskreis
LOCATION:KiD-Raum
DESCRIPTION:Das Leben von Abraham
DTSTAMP:20260420T155636
DTSTART;TZID=Europe/Berlin:20260120T190000
DTEND;TZID=Europe/Berlin:20260120T210000
SEQUENCE:2
TRANSP:OPAQUE
END:VEVENT
END:VCALENDAR