BEGIN:VCALENDAR
VERSION:2.0
PRODID:-//jEvents 2.0 for Joomla//EN
CALSCALE:GREGORIAN
METHOD:PUBLISH
BEGIN:VTIMEZONE
TZID:Europe/Berlin
END:VTIMEZONE
BEGIN:VEVENT
UID:c9a7c475-9d55-441e-aed5-5edebae306cc
CATEGORIES:regelmäßige Termine
CLASS:PUBLIC
CREATED:20260419T171517
SUMMARY:Fit & Fun
LOCATION:Turnhalle
DESCRIPTION:Sport und Gemeinschaft für jede Altersgruppe
DTSTAMP:20260420T123545
DTSTART;TZID=Europe/Berlin:20260602T180000
DTEND;TZID=Europe/Berlin:20260602T210000
SEQUENCE:2
TRANSP:OPAQUE
END:VEVENT
END:VCALENDAR