BEGIN:VCALENDAR
VERSION:2.0
PRODID:-//jEvents 2.0 for Joomla//EN
CALSCALE:GREGORIAN
METHOD:PUBLISH
BEGIN:VTIMEZONE
TZID:Europe/Berlin
END:VTIMEZONE
BEGIN:VEVENT
UID:d2898f6b-16e8-44f2-a463-34c264a22fd1
CATEGORIES:regelmäßige Termine
CLASS:PUBLIC
CREATED:20260419T171517
SUMMARY:Minis & Co.
LOCATION:Onckenzimmer
DESCRIPTION:für Kinder bis zu 3 Jahren und deren Begleiter
DTSTAMP:20260420T123523
DTSTART;TZID=Europe/Berlin:20260603T153000
DTEND;TZID=Europe/Berlin:20260603T173000
SEQUENCE:2
TRANSP:OPAQUE
END:VEVENT
END:VCALENDAR