BEGIN:VCALENDAR
VERSION:2.0
PRODID:-//jEvents 2.0 for Joomla//EN
CALSCALE:GREGORIAN
METHOD:PUBLISH
BEGIN:VTIMEZONE
TZID:Europe/Berlin
END:VTIMEZONE
BEGIN:VEVENT
UID:c25fb4ee-888a-4f52-9be3-051a133ebda2
CATEGORIES:regelmäßige Termine
CLASS:PUBLIC
CREATED:20260419T173019
SUMMARY:Gottesdienst
LOCATION:Gottesdienstraum
DESCRIPTION:
DTSTAMP:20260420T121859
DTSTART;TZID=Europe/Berlin:20260607T103000
DTEND;TZID=Europe/Berlin:20260607T113000
SEQUENCE:2
TRANSP:OPAQUE
END:VEVENT
END:VCALENDAR