BEGIN:VCALENDAR
VERSION:2.0
PRODID:-//jEvents 2.0 for Joomla//EN
CALSCALE:GREGORIAN
METHOD:PUBLISH
BEGIN:VTIMEZONE
TZID:Europe/Berlin
END:VTIMEZONE
BEGIN:VEVENT
UID:63d17448-fe0a-4990-a025-4d8bea1ea373
CATEGORIES:regelmäßige Termine
CLASS:PUBLIC
CREATED:20260419T173019
SUMMARY:Gemeindecafé
LOCATION:Säulensaal
DESCRIPTION:
DTSTAMP:20260420T123630
DTSTART;TZID=Europe/Berlin:20260607T113000
DTEND;TZID=Europe/Berlin:20260607T123000
SEQUENCE:2
TRANSP:OPAQUE
END:VEVENT
END:VCALENDAR