BEGIN:VCALENDAR
VERSION:2.0
PRODID:-//jEvents 2.0 for Joomla//EN
CALSCALE:GREGORIAN
METHOD:PUBLISH
BEGIN:VTIMEZONE
TZID:Europe/Berlin
END:VTIMEZONE
BEGIN:VEVENT
UID:86afc55f-8691-416e-835e-f1b06803a00a
CATEGORIES:regelmäßige Termine
CLASS:PUBLIC
CREATED:20260304T181517
SUMMARY:Gesprächskreis
LOCATION:KiD-Raum
DESCRIPTION:
DTSTAMP:20260420T061750
DTSTART;TZID=Europe/Berlin:20260317T190000
DTEND;TZID=Europe/Berlin:20260317T210000
SEQUENCE:2
TRANSP:OPAQUE
END:VEVENT
END:VCALENDAR