BEGIN:VCALENDAR
VERSION:2.0
PRODID:-//jEvents 2.0 for Joomla//EN
CALSCALE:GREGORIAN
METHOD:PUBLISH
BEGIN:VTIMEZONE
TZID:Europe/Berlin
END:VTIMEZONE
BEGIN:VEVENT
UID:b9083a14-3dfc-4d7b-91fd-36ac3bc7f65d
CATEGORIES:regelmäßige Termine
CLASS:PUBLIC
CREATED:20260304T181517
SUMMARY:Gesprächskreis
LOCATION:Onckenzimmer
DESCRIPTION:
DTSTAMP:20260420T061633
DTSTART;TZID=Europe/Berlin:20260331T190000
DTEND;TZID=Europe/Berlin:20260331T210000
SEQUENCE:2
TRANSP:OPAQUE
END:VEVENT
END:VCALENDAR