BEGIN:VCALENDAR
VERSION:2.0
PRODID:-//jEvents 2.0 for Joomla//EN
CALSCALE:GREGORIAN
METHOD:PUBLISH
BEGIN:VTIMEZONE
TZID:Europe/Berlin
END:VTIMEZONE
BEGIN:VEVENT
UID:f9d7a763-f7e6-4718-87af-fcddc291bff1
CATEGORIES:regelmäßige Termine
CLASS:PUBLIC
CREATED:20260419T171517
SUMMARY:Fit & Fun
LOCATION:Turnhalle
DESCRIPTION:Sport und Gemeinschaft für jede Altersgruppe
DTSTAMP:20260420T061111
DTSTART;TZID=Europe/Berlin:20260512T180000
DTEND;TZID=Europe/Berlin:20260512T210000
SEQUENCE:2
TRANSP:OPAQUE
END:VEVENT
END:VCALENDAR