BEGIN:VCALENDAR
VERSION:2.0
PRODID:-//jEvents 2.0 for Joomla//EN
CALSCALE:GREGORIAN
METHOD:PUBLISH
BEGIN:VTIMEZONE
TZID:Europe/Berlin
END:VTIMEZONE
BEGIN:VEVENT
UID:280aecec-38bb-4626-9683-9668ea3d75ae
CATEGORIES:regelmäßige Termine
CLASS:PUBLIC
CREATED:20260419T171517
SUMMARY:Fit & Fun
LOCATION:Turnhalle
DESCRIPTION:Sport und Gemeinschaft für jede Altersgruppe
DTSTAMP:20260420T061306
DTSTART;TZID=Europe/Berlin:20260526T180000
DTEND;TZID=Europe/Berlin:20260526T210000
SEQUENCE:2
TRANSP:OPAQUE
END:VEVENT
END:VCALENDAR