BEGIN:VCALENDAR
VERSION:2.0
PRODID:-//jEvents 2.0 for Joomla//EN
CALSCALE:GREGORIAN
METHOD:PUBLISH
BEGIN:VTIMEZONE
TZID:Europe/Berlin
END:VTIMEZONE
BEGIN:VEVENT
UID:44c78190-ffdf-4cc5-8a72-6742ab493b27
CATEGORIES:regelmäßige Termine
CLASS:PUBLIC
CREATED:20260419T171517
SUMMARY:Minis & Co.
LOCATION:Onckenzimmer
DESCRIPTION:für Kinder bis zu 3 Jahren und deren Begleiter
DTSTAMP:20260420T061327
DTSTART;TZID=Europe/Berlin:20260520T153000
DTEND;TZID=Europe/Berlin:20260520T173000
SEQUENCE:2
TRANSP:OPAQUE
END:VEVENT
END:VCALENDAR