BEGIN:VCALENDAR
VERSION:2.0
PRODID:-//jEvents 2.0 for Joomla//EN
CALSCALE:GREGORIAN
METHOD:PUBLISH
BEGIN:VTIMEZONE
TZID:Europe/Berlin
END:VTIMEZONE
BEGIN:VEVENT
UID:96a45680-68e8-4a6f-9eb0-592d461e71b0
CATEGORIES:regelmäßige Termine
CLASS:PUBLIC
CREATED:20260419T171517
SUMMARY:Minis & Co.
LOCATION:Onckenzimmer
DESCRIPTION:für Kinder bis zu 3 Jahren und deren Begleiter
DTSTAMP:20260420T060927
DTSTART;TZID=Europe/Berlin:20260527T153000
DTEND;TZID=Europe/Berlin:20260527T173000
SEQUENCE:2
TRANSP:OPAQUE
END:VEVENT
END:VCALENDAR