BEGIN:VCALENDAR
VERSION:2.0
PRODID:-//jEvents 2.0 for Joomla//EN
CALSCALE:GREGORIAN
METHOD:PUBLISH
BEGIN:VTIMEZONE
TZID:Europe/Berlin
END:VTIMEZONE
BEGIN:VEVENT
UID:13a11b80-ac5e-4f8b-898f-cf0d0e72f570
CATEGORIES:regelmäßige Termine
CLASS:PUBLIC
CREATED:20260419T171517
SUMMARY:KiD - Kids im Dom
LOCATION:Erlöserkirche
DESCRIPTION:für Kinder im Alter von 6 bis 12 Jahren
DTSTAMP:20260420T061306
DTSTART;TZID=Europe/Berlin:20260529T170000
DTEND;TZID=Europe/Berlin:20260529T190000
SEQUENCE:2
TRANSP:OPAQUE
END:VEVENT
END:VCALENDAR