BEGIN:VCALENDAR
VERSION:2.0
PRODID:-//jEvents 2.0 for Joomla//EN
CALSCALE:GREGORIAN
METHOD:PUBLISH
BEGIN:VTIMEZONE
TZID:Europe/Berlin
END:VTIMEZONE
BEGIN:VEVENT
UID:df972ca6-8383-48a7-bbfb-c3064830b9bd
CATEGORIES:regelmäßige Termine
CLASS:PUBLIC
CREATED:20260419T173019
SUMMARY:Gottesdienst
LOCATION:Gottesdienstraum
DESCRIPTION:
DTSTAMP:20260420T061307
DTSTART;TZID=Europe/Berlin:20260510T103000
DTEND;TZID=Europe/Berlin:20260510T113000
SEQUENCE:2
TRANSP:OPAQUE
END:VEVENT
END:VCALENDAR