BEGIN:VCALENDAR
VERSION:2.0
PRODID:-//jEvents 2.0 for Joomla//EN
CALSCALE:GREGORIAN
METHOD:PUBLISH
BEGIN:VTIMEZONE
TZID:Europe/Berlin
END:VTIMEZONE
BEGIN:VEVENT
UID:1fe20ea0-d695-42d5-aab9-561201c5c53a
CATEGORIES:regelmäßige Termine
CLASS:PUBLIC
CREATED:20260419T173019
SUMMARY:Kinderabenteuerland
LOCATION:Parkettraum / Turnhalle
DESCRIPTION:für Kinder im Alter von 3 bis 12 Jahren
DTSTAMP:20260420T061328
DTSTART;TZID=Europe/Berlin:20260510T103000
DTEND;TZID=Europe/Berlin:20260510T113000
SEQUENCE:2
TRANSP:OPAQUE
END:VEVENT
END:VCALENDAR