BEGIN:VCALENDAR
VERSION:2.0
PRODID:-//jEvents 2.0 for Joomla//EN
CALSCALE:GREGORIAN
METHOD:PUBLISH
BEGIN:VTIMEZONE
TZID:Europe/Berlin
END:VTIMEZONE
BEGIN:VEVENT
UID:16c7de93-2c09-4fed-812e-6291419992e3
CATEGORIES:regelmäßige Termine
CLASS:PUBLIC
CREATED:20260419T173019
SUMMARY:Kinderabenteuerland
LOCATION:Parkettraum / Turnhalle
DESCRIPTION:für Kinder im Alter von 3 bis 12 Jahren
DTSTAMP:20260420T061328
DTSTART;TZID=Europe/Berlin:20260517T103000
DTEND;TZID=Europe/Berlin:20260517T113000
SEQUENCE:2
TRANSP:OPAQUE
END:VEVENT
END:VCALENDAR