BEGIN:VCALENDAR
VERSION:2.0
PRODID:-//jEvents 2.0 for Joomla//EN
CALSCALE:GREGORIAN
METHOD:PUBLISH
BEGIN:VTIMEZONE
TZID:Europe/Berlin
END:VTIMEZONE
BEGIN:VEVENT
UID:fe0a3eae-206b-491d-9cac-37e77b0048c1
CATEGORIES:regelmäßige Termine
CLASS:PUBLIC
CREATED:20260419T173019
SUMMARY:Gottesdienst
LOCATION:Gottesdienstraum
DESCRIPTION:
DTSTAMP:20260420T061327
DTSTART;TZID=Europe/Berlin:20260517T103000
DTEND;TZID=Europe/Berlin:20260517T113000
SEQUENCE:2
TRANSP:OPAQUE
END:VEVENT
END:VCALENDAR