BEGIN:VCALENDAR
VERSION:2.0
PRODID:-//jEvents 2.0 for Joomla//EN
CALSCALE:GREGORIAN
METHOD:PUBLISH
BEGIN:VTIMEZONE
TZID:Europe/Berlin
END:VTIMEZONE
BEGIN:VEVENT
UID:869a61d3-9a9b-4e02-adbe-86e4a2021a3a
CATEGORIES:regelmäßige Termine
CLASS:PUBLIC
CREATED:20260419T173019
SUMMARY:Gemeindecafé
LOCATION:Säulensaal
DESCRIPTION:
DTSTAMP:20260420T061106
DTSTART;TZID=Europe/Berlin:20260517T113000
DTEND;TZID=Europe/Berlin:20260517T123000
SEQUENCE:2
TRANSP:OPAQUE
END:VEVENT
END:VCALENDAR