BEGIN:VCALENDAR
VERSION:2.0
PRODID:-//jEvents 2.0 for Joomla//EN
CALSCALE:GREGORIAN
METHOD:PUBLISH
BEGIN:VTIMEZONE
TZID:Europe/Berlin
END:VTIMEZONE
BEGIN:VEVENT
UID:ca7c50b7-554d-49cc-964a-b06c094ab0c8
CATEGORIES:regelmäßige Termine
CLASS:PUBLIC
CREATED:20260419T173019
SUMMARY:Kinderabenteuerland
LOCATION:Parkettraum / Turnhalle
DESCRIPTION:für Kinder im Alter von 3 bis 12 Jahren
DTSTAMP:20260420T061306
DTSTART;TZID=Europe/Berlin:20260524T103000
DTEND;TZID=Europe/Berlin:20260524T113000
SEQUENCE:2
TRANSP:OPAQUE
END:VEVENT
END:VCALENDAR