BEGIN:VCALENDAR
VERSION:2.0
PRODID:-//jEvents 2.0 for Joomla//EN
CALSCALE:GREGORIAN
METHOD:PUBLISH
BEGIN:VTIMEZONE
TZID:Europe/Berlin
END:VTIMEZONE
BEGIN:VEVENT
UID:a3a66289-8589-45c7-b8ee-e029676c967d
CATEGORIES:regelmäßige Termine
CLASS:PUBLIC
CREATED:20260419T173019
SUMMARY:Gemeindecafé
LOCATION:Säulensaal
DESCRIPTION:
DTSTAMP:20260420T061049
DTSTART;TZID=Europe/Berlin:20260524T113000
DTEND;TZID=Europe/Berlin:20260524T123000
SEQUENCE:2
TRANSP:OPAQUE
END:VEVENT
END:VCALENDAR