BEGIN:VCALENDAR
VERSION:2.0
PRODID:-//jEvents 2.0 for Joomla//EN
CALSCALE:GREGORIAN
METHOD:PUBLISH
BEGIN:VTIMEZONE
TZID:Europe/Berlin
BEGIN:STANDARD
DTSTART:20201108T193000
RDATE:20210328T030000
TZOFFSETFROM:+0200
TZOFFSETTO:+0100
TZNAME:Europe/Berlin CET
END:STANDARD
BEGIN:STANDARD
DTSTART:20211031T020000
RDATE:20220327T030000
TZOFFSETFROM:+0200
TZOFFSETTO:+0100
TZNAME:Europe/Berlin CET
END:STANDARD
BEGIN:STANDARD
DTSTART:20221030T020000
RDATE:20230326T030000
TZOFFSETFROM:+0200
TZOFFSETTO:+0100
TZNAME:Europe/Berlin CET
END:STANDARD
BEGIN:DAYLIGHT
DTSTART:20210328T030000
RDATE:20211031T020000
TZOFFSETFROM:+0100
TZOFFSETTO:+0200
TZNAME:Europe/Berlin CEST
END:DAYLIGHT
BEGIN:DAYLIGHT
DTSTART:20220327T030000
RDATE:20221030T020000
TZOFFSETFROM:+0100
TZOFFSETTO:+0200
TZNAME:Europe/Berlin CEST
END:DAYLIGHT
END:VTIMEZONE
BEGIN:VEVENT
UID:20211016080442.kE1L0u30O24NaiWNA-uNozz@www.efg-gelsenkirchen.de
CATEGORIES:unregelmäßige Termine
CLASS:PUBLIC
CREATED:20211016T081508
SUMMARY:Gesprächsabend zum Thema „Glaube“
LOCATION:Parkettraum
DESCRIPTION:Anmeldung bei Benjamin Laug:\nDiese E-Mail-Adresse ist vor Spambots geschüt
 zt! Zur Anzeige muss JavaScript eingeschaltet sein!
				document.getElement
 ById('cloak28f181133d7592f5ba5126b1aa24b6c0').innerHTML = '';
				var prefi
 x = '&#109;a' + 'i&#108;' + '&#116;o';
				var path = 'hr' + 'ef' + '=';
		
 		var addy28f181133d7592f5ba5126b1aa24b6c0 = 'b&#101;nj&#97;m&#105;nl&#97;&
 #117;g' + '&#64;';
				addy28f181133d7592f5ba5126b1aa24b6c0 = addy28f181133
 d7592f5ba5126b1aa24b6c0 + '&#101;fg-g&#101;ls&#101;nk&#105;rch&#101;n' + '&
 #46;' + 'd&#101;';
				var addy_text28f181133d7592f5ba5126b1aa24b6c0 = 'b&#
 101;nj&#97;m&#105;nl&#97;&#117;g' + '&#64;' + '&#101;fg-g&#101;ls&#101;nk&#
 105;rch&#101;n' + '&#46;' + 'd&#101;';document.getElementById('cloak28f1811
 33d7592f5ba5126b1aa24b6c0').innerHTML += '<a ' + path + '\'' + prefix + ':'
  + addy28f181133d7592f5ba5126b1aa24b6c0 + '\'>'+addy_text28f181133d7592f5ba
 5126b1aa24b6c0+'';
		\n0209/70292948\n
X-ALT-DESC;FMTTYPE=text/html:Anmeldung bei Benjamin Laug:<br/><span id="cloak28f181133d7592f5ba5126b1aa2
 4b6c0">Diese E-Mail-Adresse ist vor Spambots geschützt! Zur Anzeige muss Ja
 vaScript eingeschaltet sein!</span><script type='text/javascript'>
				docu
 ment.getElementById('cloak28f181133d7592f5ba5126b1aa24b6c0').innerHTML = ''
 ;
				var prefix = '&#109;a' + 'i&#108;' + '&#116;o';
				var path = 'hr' +
  'ef' + '=';
				var addy28f181133d7592f5ba5126b1aa24b6c0 = 'b&#101;nj&#97;
 m&#105;nl&#97;&#117;g' + '&#64;';
				addy28f181133d7592f5ba5126b1aa24b6c0 
 = addy28f181133d7592f5ba5126b1aa24b6c0 + '&#101;fg-g&#101;ls&#101;nk&#105;r
 ch&#101;n' + '&#46;' + 'd&#101;';
				var addy_text28f181133d7592f5ba5126b1
 aa24b6c0 = 'b&#101;nj&#97;m&#105;nl&#97;&#117;g' + '&#64;' + '&#101;fg-g&#1
 01;ls&#101;nk&#105;rch&#101;n' + '&#46;' + 'd&#101;';document.getElementByI
 d('cloak28f181133d7592f5ba5126b1aa24b6c0').innerHTML += '<a ' + path + '\''
  + prefix + ':' + addy28f181133d7592f5ba5126b1aa24b6c0 + '\'>'+addy_text28f
 181133d7592f5ba5126b1aa24b6c0+'<\/a>';
		</script><br/>0209/70292948<br/>
DTSTAMP:20260424T144536
DTSTART;TZID=Europe/Berlin:20211109T193000
DTEND;TZID=Europe/Berlin:20211109T213000
SEQUENCE:0
TRANSP:OPAQUE
END:VEVENT
END:VCALENDAR