BEGIN:VCALENDAR
VERSION:2.0
PRODID:-//jEvents 2.0 for Joomla//EN
CALSCALE:GREGORIAN
METHOD:PUBLISH
BEGIN:VTIMEZONE
TZID:Europe/Berlin
BEGIN:STANDARD
DTSTART:20201115T193000
RDATE:20210328T030000
TZOFFSETFROM:+0200
TZOFFSETTO:+0100
TZNAME:Europe/Berlin CET
END:STANDARD
BEGIN:STANDARD
DTSTART:20211031T020000
RDATE:20220327T030000
TZOFFSETFROM:+0200
TZOFFSETTO:+0100
TZNAME:Europe/Berlin CET
END:STANDARD
BEGIN:STANDARD
DTSTART:20221030T020000
RDATE:20230326T030000
TZOFFSETFROM:+0200
TZOFFSETTO:+0100
TZNAME:Europe/Berlin CET
END:STANDARD
BEGIN:DAYLIGHT
DTSTART:20210328T030000
RDATE:20211031T020000
TZOFFSETFROM:+0100
TZOFFSETTO:+0200
TZNAME:Europe/Berlin CEST
END:DAYLIGHT
BEGIN:DAYLIGHT
DTSTART:20220327T030000
RDATE:20221030T020000
TZOFFSETFROM:+0100
TZOFFSETTO:+0200
TZNAME:Europe/Berlin CEST
END:DAYLIGHT
END:VTIMEZONE
BEGIN:VEVENT
UID:20211016080504.QoB_gmwXY1bwaVOmqAlo8PW@www.efg-gelsenkirchen.de
CATEGORIES:unregelmäßige Termine
CLASS:PUBLIC
CREATED:20211016T081508
SUMMARY:Gesprächsabend zum Thema „Taufe“
LOCATION:Parkettraum
DESCRIPTION:Anmeldung bei Benjamin Laug:\nDiese E-Mail-Adresse ist vor Spambots geschüt
 zt! Zur Anzeige muss JavaScript eingeschaltet sein!
				document.getElement
 ById('cloakd5afca9f7c8b3b158c34decfbe5d4323').innerHTML = '';
				var prefi
 x = '&#109;a' + 'i&#108;' + '&#116;o';
				var path = 'hr' + 'ef' + '=';
		
 		var addyd5afca9f7c8b3b158c34decfbe5d4323 = 'b&#101;nj&#97;m&#105;nl&#97;&
 #117;g' + '&#64;';
				addyd5afca9f7c8b3b158c34decfbe5d4323 = addyd5afca9f7
 c8b3b158c34decfbe5d4323 + '&#101;fg-g&#101;ls&#101;nk&#105;rch&#101;n' + '&
 #46;' + 'd&#101;';
				var addy_textd5afca9f7c8b3b158c34decfbe5d4323 = 'b&#
 101;nj&#97;m&#105;nl&#97;&#117;g' + '&#64;' + '&#101;fg-g&#101;ls&#101;nk&#
 105;rch&#101;n' + '&#46;' + 'd&#101;';document.getElementById('cloakd5afca9
 f7c8b3b158c34decfbe5d4323').innerHTML += '<a ' + path + '\'' + prefix + ':'
  + addyd5afca9f7c8b3b158c34decfbe5d4323 + '\'>'+addy_textd5afca9f7c8b3b158c
 34decfbe5d4323+'';
		\n0209/70292948\n
X-ALT-DESC;FMTTYPE=text/html:Anmeldung bei Benjamin Laug:<br/><span id="cloakd5afca9f7c8b3b158c34decfbe5
 d4323">Diese E-Mail-Adresse ist vor Spambots geschützt! Zur Anzeige muss Ja
 vaScript eingeschaltet sein!</span><script type='text/javascript'>
				docu
 ment.getElementById('cloakd5afca9f7c8b3b158c34decfbe5d4323').innerHTML = ''
 ;
				var prefix = '&#109;a' + 'i&#108;' + '&#116;o';
				var path = 'hr' +
  'ef' + '=';
				var addyd5afca9f7c8b3b158c34decfbe5d4323 = 'b&#101;nj&#97;
 m&#105;nl&#97;&#117;g' + '&#64;';
				addyd5afca9f7c8b3b158c34decfbe5d4323 
 = addyd5afca9f7c8b3b158c34decfbe5d4323 + '&#101;fg-g&#101;ls&#101;nk&#105;r
 ch&#101;n' + '&#46;' + 'd&#101;';
				var addy_textd5afca9f7c8b3b158c34decf
 be5d4323 = 'b&#101;nj&#97;m&#105;nl&#97;&#117;g' + '&#64;' + '&#101;fg-g&#1
 01;ls&#101;nk&#105;rch&#101;n' + '&#46;' + 'd&#101;';document.getElementByI
 d('cloakd5afca9f7c8b3b158c34decfbe5d4323').innerHTML += '<a ' + path + '\''
  + prefix + ':' + addyd5afca9f7c8b3b158c34decfbe5d4323 + '\'>'+addy_textd5a
 fca9f7c8b3b158c34decfbe5d4323+'<\/a>';
		</script><br/>0209/70292948<br/>
DTSTAMP:20260424T155938
DTSTART;TZID=Europe/Berlin:20211116T193000
DTEND;TZID=Europe/Berlin:20211116T213000
SEQUENCE:0
TRANSP:OPAQUE
END:VEVENT
END:VCALENDAR