BEGIN:VCALENDAR
VERSION:2.0
PRODID:-//jEvents 2.0 for Joomla//EN
CALSCALE:GREGORIAN
METHOD:PUBLISH
BEGIN:VTIMEZONE
TZID:Europe/Berlin
BEGIN:STANDARD
DTSTART:20201122T193000
RDATE:20210328T030000
TZOFFSETFROM:+0200
TZOFFSETTO:+0100
TZNAME:Europe/Berlin CET
END:STANDARD
BEGIN:STANDARD
DTSTART:20211031T020000
RDATE:20220327T030000
TZOFFSETFROM:+0200
TZOFFSETTO:+0100
TZNAME:Europe/Berlin CET
END:STANDARD
BEGIN:STANDARD
DTSTART:20221030T020000
RDATE:20230326T030000
TZOFFSETFROM:+0200
TZOFFSETTO:+0100
TZNAME:Europe/Berlin CET
END:STANDARD
BEGIN:DAYLIGHT
DTSTART:20210328T030000
RDATE:20211031T020000
TZOFFSETFROM:+0100
TZOFFSETTO:+0200
TZNAME:Europe/Berlin CEST
END:DAYLIGHT
BEGIN:DAYLIGHT
DTSTART:20220327T030000
RDATE:20221030T020000
TZOFFSETFROM:+0100
TZOFFSETTO:+0200
TZNAME:Europe/Berlin CEST
END:DAYLIGHT
END:VTIMEZONE
BEGIN:VEVENT
UID:20211016080513.YrhnZ-8GHzaDZdbzlAYIQ4N@www.efg-gelsenkirchen.de
CATEGORIES:unregelmäßige Termine
CLASS:PUBLIC
CREATED:20211016T081508
SUMMARY:Gesprächsabend zum Thema „Gemeinde“
LOCATION:Parkettraum
DESCRIPTION:Anmeldung bei Benjamin Laug:\nDiese E-Mail-Adresse ist vor Spambots geschüt
 zt! Zur Anzeige muss JavaScript eingeschaltet sein!
				document.getElement
 ById('cloakf7f8c91a5cd2942c8225417c72d3e50a').innerHTML = '';
				var prefi
 x = '&#109;a' + 'i&#108;' + '&#116;o';
				var path = 'hr' + 'ef' + '=';
		
 		var addyf7f8c91a5cd2942c8225417c72d3e50a = 'b&#101;nj&#97;m&#105;nl&#97;&
 #117;g' + '&#64;';
				addyf7f8c91a5cd2942c8225417c72d3e50a = addyf7f8c91a5
 cd2942c8225417c72d3e50a + '&#101;fg-g&#101;ls&#101;nk&#105;rch&#101;n' + '&
 #46;' + 'd&#101;';
				var addy_textf7f8c91a5cd2942c8225417c72d3e50a = 'b&#
 101;nj&#97;m&#105;nl&#97;&#117;g' + '&#64;' + '&#101;fg-g&#101;ls&#101;nk&#
 105;rch&#101;n' + '&#46;' + 'd&#101;';document.getElementById('cloakf7f8c91
 a5cd2942c8225417c72d3e50a').innerHTML += '<a ' + path + '\'' + prefix + ':'
  + addyf7f8c91a5cd2942c8225417c72d3e50a + '\'>'+addy_textf7f8c91a5cd2942c82
 25417c72d3e50a+'';
		\n0209/70292948\n
X-ALT-DESC;FMTTYPE=text/html:Anmeldung bei Benjamin Laug:<br/><span id="cloakf7f8c91a5cd2942c8225417c72d
 3e50a">Diese E-Mail-Adresse ist vor Spambots geschützt! Zur Anzeige muss Ja
 vaScript eingeschaltet sein!</span><script type='text/javascript'>
				docu
 ment.getElementById('cloakf7f8c91a5cd2942c8225417c72d3e50a').innerHTML = ''
 ;
				var prefix = '&#109;a' + 'i&#108;' + '&#116;o';
				var path = 'hr' +
  'ef' + '=';
				var addyf7f8c91a5cd2942c8225417c72d3e50a = 'b&#101;nj&#97;
 m&#105;nl&#97;&#117;g' + '&#64;';
				addyf7f8c91a5cd2942c8225417c72d3e50a 
 = addyf7f8c91a5cd2942c8225417c72d3e50a + '&#101;fg-g&#101;ls&#101;nk&#105;r
 ch&#101;n' + '&#46;' + 'd&#101;';
				var addy_textf7f8c91a5cd2942c8225417c
 72d3e50a = 'b&#101;nj&#97;m&#105;nl&#97;&#117;g' + '&#64;' + '&#101;fg-g&#1
 01;ls&#101;nk&#105;rch&#101;n' + '&#46;' + 'd&#101;';document.getElementByI
 d('cloakf7f8c91a5cd2942c8225417c72d3e50a').innerHTML += '<a ' + path + '\''
  + prefix + ':' + addyf7f8c91a5cd2942c8225417c72d3e50a + '\'>'+addy_textf7f
 8c91a5cd2942c8225417c72d3e50a+'<\/a>';
		</script><br/>0209/70292948<br/>
DTSTAMP:20260424T144536
DTSTART;TZID=Europe/Berlin:20211123T193000
DTEND;TZID=Europe/Berlin:20211123T213000
SEQUENCE:0
TRANSP:OPAQUE
END:VEVENT
END:VCALENDAR