BEGIN:VCALENDAR
VERSION:2.0
PRODID:-//jEvents 2.0 for Joomla//EN
CALSCALE:GREGORIAN
METHOD:PUBLISH
BEGIN:VTIMEZONE
TZID:Europe/Berlin
BEGIN:STANDARD
DTSTART:20211031T020000
RDATE:20220327T030000
TZOFFSETFROM:+0200
TZOFFSETTO:+0100
TZNAME:Europe/Berlin CET
END:STANDARD
BEGIN:STANDARD
DTSTART:20221030T020000
RDATE:20230326T030000
TZOFFSETFROM:+0200
TZOFFSETTO:+0100
TZNAME:Europe/Berlin CET
END:STANDARD
BEGIN:DAYLIGHT
DTSTART:20210421T200000
RDATE:20211031T020000
TZOFFSETFROM:+0100
TZOFFSETTO:+0200
TZNAME:Europe/Berlin CEST
END:DAYLIGHT
BEGIN:DAYLIGHT
DTSTART:20220327T030000
RDATE:20221030T020000
TZOFFSETFROM:+0100
TZOFFSETTO:+0200
TZNAME:Europe/Berlin CEST
END:DAYLIGHT
END:VTIMEZONE
BEGIN:VEVENT
UID:20220303082144.Xk2COXQllPWEIqaFPuBRhKm@www.efg-gelsenkirchen.de
CATEGORIES:unregelmäßige Termine
CLASS:PUBLIC
CREATED:20220303T083009
SUMMARY:[´mu:v]-Filmnacht
LOCATION:Turnhalle
DESCRIPTION:
DTSTAMP:20260424T233401
DTSTART;TZID=Europe/Berlin:20220422T200000
DTEND;TZID=Europe/Berlin:20220423T110000
SEQUENCE:0
TRANSP:OPAQUE
END:VEVENT
END:VCALENDAR